BEGIN:VCALENDAR
VERSION:2.0
PRODID:-//Śląska Opinia - ECPv6.15.19//NONSGML v1.0//EN
CALSCALE:GREGORIAN
METHOD:PUBLISH
X-ORIGINAL-URL:https://slaskaopinia.pl
X-WR-CALDESC:Wydarzenia dla Śląska Opinia
REFRESH-INTERVAL;VALUE=DURATION:PT1H
X-Robots-Tag:noindex
X-PUBLISHED-TTL:PT1H
BEGIN:VTIMEZONE
TZID:Europe/Warsaw
BEGIN:DAYLIGHT
TZOFFSETFROM:+0100
TZOFFSETTO:+0200
TZNAME:CEST
DTSTART:20250330T010000
END:DAYLIGHT
BEGIN:STANDARD
TZOFFSETFROM:+0200
TZOFFSETTO:+0100
TZNAME:CET
DTSTART:20251026T010000
END:STANDARD
BEGIN:DAYLIGHT
TZOFFSETFROM:+0100
TZOFFSETTO:+0200
TZNAME:CEST
DTSTART:20260329T010000
END:DAYLIGHT
BEGIN:STANDARD
TZOFFSETFROM:+0200
TZOFFSETTO:+0100
TZNAME:CET
DTSTART:20261025T010000
END:STANDARD
BEGIN:DAYLIGHT
TZOFFSETFROM:+0100
TZOFFSETTO:+0200
TZNAME:CEST
DTSTART:20270328T010000
END:DAYLIGHT
BEGIN:STANDARD
TZOFFSETFROM:+0200
TZOFFSETTO:+0100
TZNAME:CET
DTSTART:20271031T010000
END:STANDARD
END:VTIMEZONE
BEGIN:VEVENT
DTSTART;TZID=Europe/Warsaw:20260313T100000
DTEND;TZID=Europe/Warsaw:20260422T000000
DTSTAMP:20260423T121301
CREATED:20260410T095610Z
LAST-MODIFIED:20260410T095610Z
UID:73898-1773396000-1776816000@slaskaopinia.pl
SUMMARY:A jezeli to wszystko jest tylko snem – wystawa prac Szymona Poloczka
DESCRIPTION:Wystawa prac Szymona Poloczka w Miejskiej Galerii Sztuki OBOK przy Teatrze Malym w Tychach. Czynna od 13 marca do 22 kwietnia 2026.
URL:https://slaskaopinia.pl/namiejscu/a-jezeli-to-wszystko-jest-tylko-snem-wystawa-prac-szymona-poloczka/
CATEGORIES:Wydarzenie specjalne
END:VEVENT
END:VCALENDAR