BEGIN:VCALENDAR
VERSION:2.0
PRODID:-//Śląska Opinia - ECPv6.15.19//NONSGML v1.0//EN
CALSCALE:GREGORIAN
METHOD:PUBLISH
X-ORIGINAL-URL:https://slaskaopinia.pl
X-WR-CALDESC:Wydarzenia dla Śląska Opinia
REFRESH-INTERVAL;VALUE=DURATION:PT1H
X-Robots-Tag:noindex
X-PUBLISHED-TTL:PT1H
BEGIN:VTIMEZONE
TZID:Europe/Warsaw
BEGIN:DAYLIGHT
TZOFFSETFROM:+0100
TZOFFSETTO:+0200
TZNAME:CEST
DTSTART:20250330T010000
END:DAYLIGHT
BEGIN:STANDARD
TZOFFSETFROM:+0200
TZOFFSETTO:+0100
TZNAME:CET
DTSTART:20251026T010000
END:STANDARD
BEGIN:DAYLIGHT
TZOFFSETFROM:+0100
TZOFFSETTO:+0200
TZNAME:CEST
DTSTART:20260329T010000
END:DAYLIGHT
BEGIN:STANDARD
TZOFFSETFROM:+0200
TZOFFSETTO:+0100
TZNAME:CET
DTSTART:20261025T010000
END:STANDARD
BEGIN:DAYLIGHT
TZOFFSETFROM:+0100
TZOFFSETTO:+0200
TZNAME:CEST
DTSTART:20270328T010000
END:DAYLIGHT
BEGIN:STANDARD
TZOFFSETFROM:+0200
TZOFFSETTO:+0100
TZNAME:CET
DTSTART:20271031T010000
END:STANDARD
END:VTIMEZONE
BEGIN:VEVENT
DTSTART;TZID=Europe/Warsaw:20260531T193000
DTEND;TZID=Europe/Warsaw:20260531T193000
DTSTAMP:20260423T115745
CREATED:20260410T090116Z
LAST-MODIFIED:20260410T090116Z
UID:73771-1780255800-1780255800@slaskaopinia.pl
SUMMARY:Kochanie – Cinema Italia Oggi 2026
DESCRIPTION:Nico\, chlopiec z nowoczesnej rodziny\, spedza lato na Sycylii u starszej ciotki – bez wi-fi i jakiejkolwiek technologii. Zderzenie nowoczesnosci z przeszloscia\, rozumu z wiara wyznacza poczatek ich burzliwej\, lecz glebokiej wiezi.
URL:https://slaskaopinia.pl/namiejscu/kochanie-cinema-italia-oggi-2026/
CATEGORIES:Film
END:VEVENT
END:VCALENDAR