BEGIN:VCALENDAR
VERSION:2.0
PRODID:-//Śląska Opinia - ECPv6.15.19//NONSGML v1.0//EN
CALSCALE:GREGORIAN
METHOD:PUBLISH
X-WR-CALNAME:Śląska Opinia
X-ORIGINAL-URL:https://slaskaopinia.pl
X-WR-CALDESC:Wydarzenia dla Śląska Opinia
REFRESH-INTERVAL;VALUE=DURATION:PT1H
X-Robots-Tag:noindex
X-PUBLISHED-TTL:PT1H
BEGIN:VTIMEZONE
TZID:Europe/Warsaw
BEGIN:DAYLIGHT
TZOFFSETFROM:+0100
TZOFFSETTO:+0200
TZNAME:CEST
DTSTART:20250330T010000
END:DAYLIGHT
BEGIN:STANDARD
TZOFFSETFROM:+0200
TZOFFSETTO:+0100
TZNAME:CET
DTSTART:20251026T010000
END:STANDARD
BEGIN:DAYLIGHT
TZOFFSETFROM:+0100
TZOFFSETTO:+0200
TZNAME:CEST
DTSTART:20260329T010000
END:DAYLIGHT
BEGIN:STANDARD
TZOFFSETFROM:+0200
TZOFFSETTO:+0100
TZNAME:CET
DTSTART:20261025T010000
END:STANDARD
BEGIN:DAYLIGHT
TZOFFSETFROM:+0100
TZOFFSETTO:+0200
TZNAME:CEST
DTSTART:20270328T010000
END:DAYLIGHT
BEGIN:STANDARD
TZOFFSETFROM:+0200
TZOFFSETTO:+0100
TZNAME:CET
DTSTART:20271031T010000
END:STANDARD
END:VTIMEZONE
BEGIN:VEVENT
DTSTART;TZID=Europe/Warsaw:20260503T170000
DTEND;TZID=Europe/Warsaw:20260503T170000
DTSTAMP:20260423T132849
CREATED:20260410T090013Z
LAST-MODIFIED:20260410T090013Z
UID:73748-1777827600-1777827600@slaskaopinia.pl
SUMMARY:Caravaggio. Arcydziela niepokornego geniusza – Wielka Sztuka (1)
DESCRIPTION:Realizacja tego bezprecedensowego dokumentu zajela tworcom az 5 lat. Kamery zabiora widzow w podroz sladami malarza i jego arcydziel: od Mediolanu i Rzymu\, przez Neapol\, az po Malte. Zobaczymy niemal wszystkie dziela mistrza w wysokiej jakosci.
URL:https://slaskaopinia.pl/namiejscu/caravaggio-arcydziela-niepokornego-geniusza-wielka-sztuka-1/
CATEGORIES:Film
END:VEVENT
BEGIN:VEVENT
DTSTART;TZID=Europe/Warsaw:20260531T170000
DTEND;TZID=Europe/Warsaw:20260531T170000
DTSTAMP:20260423T132849
CREATED:20260410T090014Z
LAST-MODIFIED:20260410T090014Z
UID:73749-1780246800-1780246800@slaskaopinia.pl
SUMMARY:Caravaggio. Arcydziela niepokornego geniusza – Wielka Sztuka (2)
DESCRIPTION:Realizacja tego bezprecedensowego dokumentu zajela tworcom az 5 lat. Kamery zabiora widzow w podroz sladami malarza i jego arcydziel: od Mediolanu i Rzymu\, przez Neapol\, az po Malte. Zobaczymy niemal wszystkie dziela mistrza w wysokiej jakosci.
URL:https://slaskaopinia.pl/namiejscu/caravaggio-arcydziela-niepokornego-geniusza-wielka-sztuka-2/
CATEGORIES:Film
END:VEVENT
END:VCALENDAR