BEGIN:VCALENDAR
VERSION:2.0
PRODID:-//Śląska Opinia - ECPv6.15.19//NONSGML v1.0//EN
CALSCALE:GREGORIAN
METHOD:PUBLISH
X-ORIGINAL-URL:https://slaskaopinia.pl
X-WR-CALDESC:Wydarzenia dla Śląska Opinia
REFRESH-INTERVAL;VALUE=DURATION:PT1H
X-Robots-Tag:noindex
X-PUBLISHED-TTL:PT1H
BEGIN:VTIMEZONE
TZID:Europe/Warsaw
BEGIN:DAYLIGHT
TZOFFSETFROM:+0100
TZOFFSETTO:+0200
TZNAME:CEST
DTSTART:20250330T010000
END:DAYLIGHT
BEGIN:STANDARD
TZOFFSETFROM:+0200
TZOFFSETTO:+0100
TZNAME:CET
DTSTART:20251026T010000
END:STANDARD
BEGIN:DAYLIGHT
TZOFFSETFROM:+0100
TZOFFSETTO:+0200
TZNAME:CEST
DTSTART:20260329T010000
END:DAYLIGHT
BEGIN:STANDARD
TZOFFSETFROM:+0200
TZOFFSETTO:+0100
TZNAME:CET
DTSTART:20261025T010000
END:STANDARD
BEGIN:DAYLIGHT
TZOFFSETFROM:+0100
TZOFFSETTO:+0200
TZNAME:CEST
DTSTART:20270328T010000
END:DAYLIGHT
BEGIN:STANDARD
TZOFFSETFROM:+0200
TZOFFSETTO:+0100
TZNAME:CET
DTSTART:20271031T010000
END:STANDARD
END:VTIMEZONE
BEGIN:VEVENT
DTSTART;TZID=Europe/Warsaw:20260322T160000
DTEND;TZID=Europe/Warsaw:20260322T160000
DTSTAMP:20260423T001913
CREATED:20260304T055224Z
LAST-MODIFIED:20260304T055224Z
UID:73253-1774195200-1774195200@slaskaopinia.pl
SUMMARY:Lettycja i lubczyk
DESCRIPTION:Komedia o miłości i nieporozumieniach z pikantnym twistem.
URL:https://slaskaopinia.pl/namiejscu/lettycja-i-lubczyk-2/
LOCATION:Teatr Polski w Bielsku-Białej\, ul. 1 Maja 1\, Bielsko-Biała
CATEGORIES:Spektakl
END:VEVENT
BEGIN:VEVENT
DTSTART;TZID=Europe/Warsaw:20260321T160000
DTEND;TZID=Europe/Warsaw:20260321T160000
DTSTAMP:20260423T001913
CREATED:20260304T055147Z
LAST-MODIFIED:20260304T055147Z
UID:73248-1774108800-1774108800@slaskaopinia.pl
SUMMARY:Lettycja i lubczyk
DESCRIPTION:Komedia o miłości i nieporozumieniach z pikantnym twistem.
URL:https://slaskaopinia.pl/namiejscu/lettycja-i-lubczyk/
LOCATION:Teatr Polski w Bielsku-Białej\, ul. 1 Maja 1\, Bielsko-Biała
CATEGORIES:Spektakl
END:VEVENT
BEGIN:VEVENT
DTSTART;TZID=Europe/Warsaw:20260318T132900
DTEND;TZID=Europe/Warsaw:20260318T132900
DTSTAMP:20260423T001913
CREATED:20260304T055146Z
LAST-MODIFIED:20260304T055146Z
UID:73247-1773840540-1773840540@slaskaopinia.pl
SUMMARY:Seks dla opornych
DESCRIPTION:Spektakl komediowy poruszający tematy bliskie dorosłym widzom w lekki i humorystyczny sposób.
URL:https://slaskaopinia.pl/namiejscu/seks-dla-opornych-2/
LOCATION:Teatr Polski w Bielsku-Białej\, ul. 1 Maja 1\, Bielsko-Biała
CATEGORIES:Spektakl
END:VEVENT
BEGIN:VEVENT
DTSTART;TZID=Europe/Warsaw:20260317T190000
DTEND;TZID=Europe/Warsaw:20260317T190000
DTSTAMP:20260423T001913
CREATED:20260304T055145Z
LAST-MODIFIED:20260304T055145Z
UID:73246-1773774000-1773774000@slaskaopinia.pl
SUMMARY:Seks dla opornych
DESCRIPTION:Spektakl komediowy poruszający tematy bliskie dorosłym widzom w lekki i humorystyczny sposób.
URL:https://slaskaopinia.pl/namiejscu/seks-dla-opornych/
LOCATION:Teatr Polski w Bielsku-Białej\, ul. 1 Maja 1\, Bielsko-Biała
CATEGORIES:Spektakl
END:VEVENT
BEGIN:VEVENT
DTSTART;TZID=Europe/Warsaw:20260315T160000
DTEND;TZID=Europe/Warsaw:20260315T160000
DTSTAMP:20260423T001913
CREATED:20260304T055130Z
LAST-MODIFIED:20260304T055130Z
UID:73234-1773590400-1773590400@slaskaopinia.pl
SUMMARY:Sąsiedzi z góry
DESCRIPTION:Komedia o relacjach sąsiedzkich na Małej Scenie Teatru Polskiego. Spektakl pełen humoru i zaskakujących zwrotów akcji.
URL:https://slaskaopinia.pl/namiejscu/sasiedzi-z-gory-4/
LOCATION:Teatr Polski w Bielsku-Białej\, ul. 1 Maja 1\, Bielsko-Biała
CATEGORIES:Spektakl
END:VEVENT
BEGIN:VEVENT
DTSTART;TZID=Europe/Warsaw:20260314T160000
DTEND;TZID=Europe/Warsaw:20260314T160000
DTSTAMP:20260423T001913
CREATED:20260304T055129Z
LAST-MODIFIED:20260304T055129Z
UID:73233-1773504000-1773504000@slaskaopinia.pl
SUMMARY:Sąsiedzi z góry
DESCRIPTION:Komedia o relacjach sąsiedzkich na Małej Scenie Teatru Polskiego. Spektakl pełen humoru i zaskakujących zwrotów akcji.
URL:https://slaskaopinia.pl/namiejscu/sasiedzi-z-gory-3/
LOCATION:Teatr Polski w Bielsku-Białej\, ul. 1 Maja 1\, Bielsko-Biała
CATEGORIES:Spektakl
END:VEVENT
BEGIN:VEVENT
DTSTART;TZID=Europe/Warsaw:20260313T160000
DTEND;TZID=Europe/Warsaw:20260313T160000
DTSTAMP:20260423T001913
CREATED:20260304T054334Z
LAST-MODIFIED:20260304T054334Z
UID:73232-1773417600-1773417600@slaskaopinia.pl
SUMMARY:Sąsiedzi z góry
DESCRIPTION:Komedia o relacjach sąsiedzkich na Małej Scenie Teatru Polskiego. Spektakl pełen humoru i zaskakujących zwrotów akcji.
URL:https://slaskaopinia.pl/namiejscu/sasiedzi-z-gory-2/
LOCATION:Teatr Polski w Bielsku-Białej\, ul. 1 Maja 1\, Bielsko-Biała
CATEGORIES:Spektakl
END:VEVENT
BEGIN:VEVENT
DTSTART;TZID=Europe/Warsaw:20260301T160000
DTEND;TZID=Europe/Warsaw:20260301T160000
DTSTAMP:20260423T001913
CREATED:20260304T054334Z
LAST-MODIFIED:20260304T054334Z
UID:73231-1772380800-1772380800@slaskaopinia.pl
SUMMARY:Sąsiedzi z góry
DESCRIPTION:Komedia o relacjach sąsiedzkich na Małej Scenie Teatru Polskiego. Spektakl pełen humoru i zaskakujących zwrotów akcji.
URL:https://slaskaopinia.pl/namiejscu/sasiedzi-z-gory/
LOCATION:Teatr Polski w Bielsku-Białej\, ul. 1 Maja 1\, Bielsko-Biała
CATEGORIES:Spektakl
END:VEVENT
END:VCALENDAR