BEGIN:VCALENDAR
VERSION:2.0
PRODID:-//Śląska Opinia - ECPv6.15.19//NONSGML v1.0//EN
CALSCALE:GREGORIAN
METHOD:PUBLISH
X-WR-CALNAME:Śląska Opinia
X-ORIGINAL-URL:https://slaskaopinia.pl
X-WR-CALDESC:Wydarzenia dla Śląska Opinia
REFRESH-INTERVAL;VALUE=DURATION:PT1H
X-Robots-Tag:noindex
X-PUBLISHED-TTL:PT1H
BEGIN:VTIMEZONE
TZID:Europe/Warsaw
BEGIN:DAYLIGHT
TZOFFSETFROM:+0100
TZOFFSETTO:+0200
TZNAME:CEST
DTSTART:20250330T010000
END:DAYLIGHT
BEGIN:STANDARD
TZOFFSETFROM:+0200
TZOFFSETTO:+0100
TZNAME:CET
DTSTART:20251026T010000
END:STANDARD
BEGIN:DAYLIGHT
TZOFFSETFROM:+0100
TZOFFSETTO:+0200
TZNAME:CEST
DTSTART:20260329T010000
END:DAYLIGHT
BEGIN:STANDARD
TZOFFSETFROM:+0200
TZOFFSETTO:+0100
TZNAME:CET
DTSTART:20261025T010000
END:STANDARD
BEGIN:DAYLIGHT
TZOFFSETFROM:+0100
TZOFFSETTO:+0200
TZNAME:CEST
DTSTART:20270328T010000
END:DAYLIGHT
BEGIN:STANDARD
TZOFFSETFROM:+0200
TZOFFSETTO:+0100
TZNAME:CET
DTSTART:20271031T010000
END:STANDARD
END:VTIMEZONE
BEGIN:VEVENT
DTSTART;TZID=Europe/Warsaw:20260603T190000
DTEND;TZID=Europe/Warsaw:20260603T190000
DTSTAMP:20260423T083443
CREATED:20260303T190959Z
LAST-MODIFIED:20260303T190959Z
UID:73142-1780513200-1780513200@slaskaopinia.pl
SUMMARY:Świat Czeka – Dorota Rasińska-Samoćko – „Korony Górskich Wyzwań"
DESCRIPTION:Dorota Rasińska-Samoćko – pierwsza Polka w dwóch koronach. Zdobycie wszystkich najwyższych szczytów Świata i kontynentów to wyczyn\, którego nie dokonała żadna dziewczyna z naszego kraju. Pasjonatka podróży\, żywioł\, połączenie błyskotliwości i poczucia humoru. Event z taką osobą musi się udać\, bo mało kto potrafi tak trzymać w napięciu jak Ona.
URL:https://slaskaopinia.pl/namiejscu/swiat-czeka-dorota-rasinska-samocko-korony-gorskich-wyzwan/
LOCATION:Kino Rialto\, ul. św. Jana 24\, Katowice
CATEGORIES:Spotkanie
END:VEVENT
END:VCALENDAR