BEGIN:VCALENDAR
VERSION:2.0
PRODID:-//Śląska Opinia - ECPv6.15.19//NONSGML v1.0//EN
CALSCALE:GREGORIAN
METHOD:PUBLISH
X-WR-CALNAME:Śląska Opinia
X-ORIGINAL-URL:https://slaskaopinia.pl
X-WR-CALDESC:Wydarzenia dla Śląska Opinia
REFRESH-INTERVAL;VALUE=DURATION:PT1H
X-Robots-Tag:noindex
X-PUBLISHED-TTL:PT1H
BEGIN:VTIMEZONE
TZID:Europe/Warsaw
BEGIN:DAYLIGHT
TZOFFSETFROM:+0100
TZOFFSETTO:+0200
TZNAME:CEST
DTSTART:20250330T010000
END:DAYLIGHT
BEGIN:STANDARD
TZOFFSETFROM:+0200
TZOFFSETTO:+0100
TZNAME:CET
DTSTART:20251026T010000
END:STANDARD
BEGIN:DAYLIGHT
TZOFFSETFROM:+0100
TZOFFSETTO:+0200
TZNAME:CEST
DTSTART:20260329T010000
END:DAYLIGHT
BEGIN:STANDARD
TZOFFSETFROM:+0200
TZOFFSETTO:+0100
TZNAME:CET
DTSTART:20261025T010000
END:STANDARD
BEGIN:DAYLIGHT
TZOFFSETFROM:+0100
TZOFFSETTO:+0200
TZNAME:CEST
DTSTART:20270328T010000
END:DAYLIGHT
BEGIN:STANDARD
TZOFFSETFROM:+0200
TZOFFSETTO:+0100
TZNAME:CET
DTSTART:20271031T010000
END:STANDARD
END:VTIMEZONE
BEGIN:VEVENT
DTSTART;TZID=Europe/Warsaw:20260707T183000
DTEND;TZID=Europe/Warsaw:20260707T183000
DTSTAMP:20260423T082009
CREATED:20260410T093732Z
LAST-MODIFIED:20260410T093732Z
UID:73881-1783449000-1783449000@slaskaopinia.pl
SUMMARY:Wajda. Brzezina
DESCRIPTION:Andrzej Wajda. Daniel Olbrychski\, Olgierd Lukaszewicz\, Emilia Krakowska. Polska 1970\, 99 min. Od 15 lat. Angielskie napisy.
URL:https://slaskaopinia.pl/namiejscu/wajda-brzezina/
LOCATION:Kino Kosmos\, ul. Sokol­ska 66\, Katowice\, 40-087
CATEGORIES:Film
END:VEVENT
BEGIN:VEVENT
DTSTART;TZID=Europe/Warsaw:20260804T182000
DTEND;TZID=Europe/Warsaw:20260804T182000
DTSTAMP:20260423T082009
CREATED:20260410T093745Z
LAST-MODIFIED:20260410T093745Z
UID:73883-1785867600-1785867600@slaskaopinia.pl
SUMMARY:Wajda. Kronika wypadkow milosnych
DESCRIPTION:Andrzej Wajda. Scenariusz: Tadeusz Konwicki. Paulina Mlynarska\, Piotr Wawrzynczak\, Tadeusz Lomnicki. Polska 1985\, 114 min. Od 15 lat. Angielskie napisy.
URL:https://slaskaopinia.pl/namiejscu/wajda-kronika-wypadkow-milosnych/
LOCATION:Kino Kosmos\, ul. Sokol­ska 66\, Katowice\, 40-087
CATEGORIES:Film
END:VEVENT
END:VCALENDAR