BEGIN:VCALENDAR
VERSION:2.0
PRODID:-//Śląska Opinia - ECPv6.15.19//NONSGML v1.0//EN
CALSCALE:GREGORIAN
METHOD:PUBLISH
X-ORIGINAL-URL:https://slaskaopinia.pl
X-WR-CALDESC:Wydarzenia dla Śląska Opinia
REFRESH-INTERVAL;VALUE=DURATION:PT1H
X-Robots-Tag:noindex
X-PUBLISHED-TTL:PT1H
BEGIN:VTIMEZONE
TZID:Europe/Warsaw
BEGIN:DAYLIGHT
TZOFFSETFROM:+0100
TZOFFSETTO:+0200
TZNAME:CEST
DTSTART:20250330T010000
END:DAYLIGHT
BEGIN:STANDARD
TZOFFSETFROM:+0200
TZOFFSETTO:+0100
TZNAME:CET
DTSTART:20251026T010000
END:STANDARD
BEGIN:DAYLIGHT
TZOFFSETFROM:+0100
TZOFFSETTO:+0200
TZNAME:CEST
DTSTART:20260329T010000
END:DAYLIGHT
BEGIN:STANDARD
TZOFFSETFROM:+0200
TZOFFSETTO:+0100
TZNAME:CET
DTSTART:20261025T010000
END:STANDARD
BEGIN:DAYLIGHT
TZOFFSETFROM:+0100
TZOFFSETTO:+0200
TZNAME:CEST
DTSTART:20270328T010000
END:DAYLIGHT
BEGIN:STANDARD
TZOFFSETFROM:+0200
TZOFFSETTO:+0100
TZNAME:CET
DTSTART:20271031T010000
END:STANDARD
END:VTIMEZONE
BEGIN:VEVENT
DTSTART;TZID=Europe/Warsaw:20260325T170000
DTEND;TZID=Europe/Warsaw:20260325T183000
DTSTAMP:20260423T101553
CREATED:20260227T171200Z
LAST-MODIFIED:20260227T171200Z
UID:72724-1774458000-1774463400@slaskaopinia.pl
SUMMARY:Planszówkowy zawrót głowy!
DESCRIPTION:Wieczór gier planszowych dla najmłodszych dzieci. Obowiązują zapisy – nr tel. 322 588 712.
URL:https://slaskaopinia.pl/namiejscu/planszowkowy-zawrot-glowy/
LOCATION:Miejska Biblioteka Publiczna w Katowicach – Filia nr 33\, ul. Ks. Markiefki 44 A\, Katowice\, Polska
CATEGORIES:Dla dzieci
END:VEVENT
BEGIN:VEVENT
DTSTART;TZID=Europe/Warsaw:20260313T170000
DTEND;TZID=Europe/Warsaw:20260313T190000
DTSTAMP:20260423T101553
CREATED:20260227T171146Z
LAST-MODIFIED:20260227T171146Z
UID:72718-1773421200-1773428400@slaskaopinia.pl
SUMMARY:EkoPlanszoGranie
DESCRIPTION:Wieczór gier planszowych o tematyce ekologicznej. Spotkanie dla dorosłych; obowiązują zapisy – nr tel. 322 556 260.
URL:https://slaskaopinia.pl/namiejscu/ekoplanszogranie/
LOCATION:Miejska Biblioteka Publiczna w Katowicach – Filia nr 26\, ul. Goetla 2\, Katowice\, Polska
CATEGORIES:Inne
END:VEVENT
BEGIN:VEVENT
DTSTART;TZID=Europe/Warsaw:20260304T160000
DTEND;TZID=Europe/Warsaw:20260304T180000
DTSTAMP:20260423T101553
CREATED:20260227T171138Z
LAST-MODIFIED:20260227T171138Z
UID:72711-1772640000-1772647200@slaskaopinia.pl
SUMMARY:Środowe planszówki z Meplem
DESCRIPTION:Planszówkowe spotkanie rodzinne.
URL:https://slaskaopinia.pl/namiejscu/srodowe-planszowki-z-meplem/
LOCATION:Miejska Biblioteka Publiczna w Katowicach – Filia nr 5\, ul. Braci Mniejszych 2\, Katowice\, Polska
CATEGORIES:Dla dzieci
END:VEVENT
END:VCALENDAR