BEGIN:VCALENDAR
VERSION:2.0
PRODID:-//Śląska Opinia - ECPv6.15.19//NONSGML v1.0//EN
CALSCALE:GREGORIAN
METHOD:PUBLISH
X-WR-CALNAME:Śląska Opinia
X-ORIGINAL-URL:https://slaskaopinia.pl
X-WR-CALDESC:Wydarzenia dla Śląska Opinia
REFRESH-INTERVAL;VALUE=DURATION:PT1H
X-Robots-Tag:noindex
X-PUBLISHED-TTL:PT1H
BEGIN:VTIMEZONE
TZID:Europe/Warsaw
BEGIN:DAYLIGHT
TZOFFSETFROM:+0100
TZOFFSETTO:+0200
TZNAME:CEST
DTSTART:20250330T010000
END:DAYLIGHT
BEGIN:STANDARD
TZOFFSETFROM:+0200
TZOFFSETTO:+0100
TZNAME:CET
DTSTART:20251026T010000
END:STANDARD
BEGIN:DAYLIGHT
TZOFFSETFROM:+0100
TZOFFSETTO:+0200
TZNAME:CEST
DTSTART:20260329T010000
END:DAYLIGHT
BEGIN:STANDARD
TZOFFSETFROM:+0200
TZOFFSETTO:+0100
TZNAME:CET
DTSTART:20261025T010000
END:STANDARD
BEGIN:DAYLIGHT
TZOFFSETFROM:+0100
TZOFFSETTO:+0200
TZNAME:CEST
DTSTART:20270328T010000
END:DAYLIGHT
BEGIN:STANDARD
TZOFFSETFROM:+0200
TZOFFSETTO:+0100
TZNAME:CET
DTSTART:20271031T010000
END:STANDARD
END:VTIMEZONE
BEGIN:VEVENT
DTSTART;TZID=Europe/Warsaw:20260307T183000
DTEND;TZID=Europe/Warsaw:20260307T200600
DTSTAMP:20260423T080914
CREATED:20260303T184040Z
LAST-MODIFIED:20260303T184040Z
UID:73057-1772908200-1772913960@slaskaopinia.pl
SUMMARY:EPiC: Elvis Presley In Concert
DESCRIPTION:Dokumentalny film muzyczny o Elvisie Presleyu. Baz Luhrmann.
URL:https://slaskaopinia.pl/namiejscu/epic-elvis-presley-in-concert/
CATEGORIES:Film dokumentalny
END:VEVENT
BEGIN:VEVENT
DTSTART;TZID=Europe/Warsaw:20260310T183000
DTEND;TZID=Europe/Warsaw:20260310T211100
DTSTAMP:20260423T080914
CREATED:20260303T184113Z
LAST-MODIFIED:20260303T184113Z
UID:73062-1773167400-1773177060@slaskaopinia.pl
SUMMARY:Amadeusz + prelekcja
DESCRIPTION:Dramat biograficzny Miloša Formana o Mozarcie. USA 1984. Z prelekcją.
URL:https://slaskaopinia.pl/namiejscu/amadeusz-prelekcja/
CATEGORIES:Film
END:VEVENT
END:VCALENDAR