BEGIN:VCALENDAR
VERSION:2.0
PRODID:-//Śląska Opinia - ECPv6.15.19//NONSGML v1.0//EN
CALSCALE:GREGORIAN
METHOD:PUBLISH
X-ORIGINAL-URL:https://slaskaopinia.pl
X-WR-CALDESC:Wydarzenia dla Śląska Opinia
REFRESH-INTERVAL;VALUE=DURATION:PT1H
X-Robots-Tag:noindex
X-PUBLISHED-TTL:PT1H
BEGIN:VTIMEZONE
TZID:Europe/Warsaw
BEGIN:DAYLIGHT
TZOFFSETFROM:+0100
TZOFFSETTO:+0200
TZNAME:CEST
DTSTART:20250330T010000
END:DAYLIGHT
BEGIN:STANDARD
TZOFFSETFROM:+0200
TZOFFSETTO:+0100
TZNAME:CET
DTSTART:20251026T010000
END:STANDARD
BEGIN:DAYLIGHT
TZOFFSETFROM:+0100
TZOFFSETTO:+0200
TZNAME:CEST
DTSTART:20260329T010000
END:DAYLIGHT
BEGIN:STANDARD
TZOFFSETFROM:+0200
TZOFFSETTO:+0100
TZNAME:CET
DTSTART:20261025T010000
END:STANDARD
BEGIN:DAYLIGHT
TZOFFSETFROM:+0100
TZOFFSETTO:+0200
TZNAME:CEST
DTSTART:20270328T010000
END:DAYLIGHT
BEGIN:STANDARD
TZOFFSETFROM:+0200
TZOFFSETTO:+0100
TZNAME:CET
DTSTART:20271031T010000
END:STANDARD
END:VTIMEZONE
BEGIN:VEVENT
DTSTART;VALUE=DATE:20260718
DTEND;VALUE=DATE:20260720
DTSTAMP:20260423T050422
CREATED:20260420T101217Z
LAST-MODIFIED:20260420T101217Z
UID:74469-1784332800-1784505599@slaskaopinia.pl
SUMMARY:Driftingowe Mistrzostwa Polski
DESCRIPTION:Po raz kolejny Katowice staną się centrum motorsportowych emocji. W lipcu do stolicy województwa śląskiego przyjadą czołowi europejscy kierowcy driftingowi. Zmagania o tytuł Driftingowego Mistrza Polski przeniosą się do ścisłego centrum miasta – Katowickiej Strefy Kultury\, zlokalizowanej przy legendarnym Spodku. \n– Już w lipcu fani sportów motorowych będą mieli wyjątkową okazję\, by zobaczyć na żywo rywalizację czołowych kierowców w ramach Driftingowych Mistrzostw Polski. Drifting to jedna z najszybciej rozwijających się dyscyplin motorsportu\, a jego dynamiczna\, pełna emocji forma rywalizacji przyciąga coraz szersze grono fanów – mówi Marcin Krupa\, prezydent Katowic. – Katowicka Strefa Kultury to miejsce dobrze znane fanom motoryzacji. To tutaj w ostatnich latach odbywa się Rajd Śląska\, który w tym roku będzie rundą Rajdowych Mistrzostw Europy i jednocześnie stanie się Rajdem Polski\, a w 2022 odbyło się w tym miejscu spektakularne wydarzenie Red Bull Car Park Drift Katowice – dodaje prezydent.  \nDriftingowe Mistrzostwa Polski to prawdziwe święto motoryzacji\, w trakcie którego każdy znajdzie coś dla siebie. Organizatorzy przewidują wiele atrakcji\, w tym symulatory jazdy\, liczne konkursy oraz otwarty paddock\, w którym z bliska będzie można zobaczyć nawet 1000-konne samochody. Miasto Katowice zostało partnerem wydarzenia po raz trzeci. \n– Po raz kolejny będziemy rywalizować w Katowicach. Bardzo się cieszę\, ponieważ właśnie tutaj motorsport jest naprawdę blisko kibiców. W poprzednich sezonach rundy w Katowicach cieszyły się ogromnym zainteresowaniem. Wydarzenie przyciągnęło bardzo wielu kibiców\, którzy spotykali się z nami podczas otwartego parku serwisowego oraz korzystali z licznych atrakcji. W Katowicach zawsze możemy liczyć na ciepłe powitanie. Cieszymy się\, że tym razem drifting będzie jeszcze bliżej ludzi\, a runda odbędzie się w samym centrum miasta. W poprzednich sezonach liczna publiczność dodawała zawodnikom niesamowitej energii. Mam nadzieję\, że w tym roku spotkamy się ponownie — mówi Kuba Przygoński\, utytułowany kierowca driftingowy i ambasador Driftingowych Mistrzostw Polski. \nW dniach 18–19 lipca 2026 roku centrum Katowic zamieni się w arenę widowiskowego driftingu. Do miasta przyjadą czołowi kierowcy z kilkunastu krajów\, aby zaprezentować swoje umiejętności za kierownicą potężnych samochodów o mocy sięgającej nawet 1000 koni mechanicznych. \nW sobotę odbędą się kwalifikacje\, które wyłonią najlepszych zawodników\, natomiast\nw niedzielę czekają nas najbardziej emocjonujące pojedynki w parach. To właśnie wtedy kierowcy rywalizują bok w bok\, walcząc o jak najbliższą i najbardziej efektowną jazdę względem przeciwnika. \nOrganizatorzy przygotowali wiele atrakcji\, wśród których znajdą się m.in.: \n– Car Show – ponad 100 wyjątkowych aut\, od klasyków po najciekawsze projekty z polskiej sceny tuningowej\, \n– Street Food Zone – food trucki serwujące kuchnię z całego świata\, \n– Strefa partnerów – liczne konkursy z nagrodami od partnerów Driftingowych Mistrzostw Polski\, \nTo tylko część atrakcji przygotowanych przez Driftingowe Mistrzostwa Polski. Więcej informacji można znaleźć w oficjalnych kanałach organizatorów: \nhttps://www.facebook.com/driftingowemistrzostwapolski\nhttps://www.instagram.com/driftingowe_mistrzostwa_polski/ \nStrona główna \n \nBilety na wydarzenie będą dostępne na platformie eBilet.
URL:https://slaskaopinia.pl/namiejscu/driftingowe-mistrzostwa-polski/
LOCATION:Strefa Kultury w Katowicach\, Katowice
CATEGORIES:Sport
END:VEVENT
END:VCALENDAR