BEGIN:VCALENDAR
VERSION:2.0
PRODID:-//Śląska Opinia - ECPv6.15.19//NONSGML v1.0//EN
CALSCALE:GREGORIAN
METHOD:PUBLISH
X-ORIGINAL-URL:https://slaskaopinia.pl
X-WR-CALDESC:Wydarzenia dla Śląska Opinia
REFRESH-INTERVAL;VALUE=DURATION:PT1H
X-Robots-Tag:noindex
X-PUBLISHED-TTL:PT1H
BEGIN:VTIMEZONE
TZID:Europe/Warsaw
BEGIN:DAYLIGHT
TZOFFSETFROM:+0100
TZOFFSETTO:+0200
TZNAME:CEST
DTSTART:20250330T010000
END:DAYLIGHT
BEGIN:STANDARD
TZOFFSETFROM:+0200
TZOFFSETTO:+0100
TZNAME:CET
DTSTART:20251026T010000
END:STANDARD
BEGIN:DAYLIGHT
TZOFFSETFROM:+0100
TZOFFSETTO:+0200
TZNAME:CEST
DTSTART:20260329T010000
END:DAYLIGHT
BEGIN:STANDARD
TZOFFSETFROM:+0200
TZOFFSETTO:+0100
TZNAME:CET
DTSTART:20261025T010000
END:STANDARD
BEGIN:DAYLIGHT
TZOFFSETFROM:+0100
TZOFFSETTO:+0200
TZNAME:CEST
DTSTART:20270328T010000
END:DAYLIGHT
BEGIN:STANDARD
TZOFFSETFROM:+0200
TZOFFSETTO:+0100
TZNAME:CET
DTSTART:20271031T010000
END:STANDARD
END:VTIMEZONE
BEGIN:VEVENT
DTSTART;TZID=Europe/Warsaw:20260416T093000
DTEND;TZID=Europe/Warsaw:20260417T163000
DTSTAMP:20260423T065913
CREATED:20260409T053621Z
LAST-MODIFIED:20260409T053621Z
UID:73712-1776331800-1776443400@slaskaopinia.pl
SUMMARY:KONFERENCJA NAUKOWA SZCZEPAN TWARDOCH I (NIE)FIKCJE: LITERATURA – PUBLICYSTYKA – FORMY ZAANGAŻOWANIA
DESCRIPTION:16 i 17 kwietnia 2026 roku w Katowicach badacze z całej Polski będą rozmawiać o pisarstwie autora „Dracha”\, „Morfiny” i „Pokory”\, a wszystko to w ramach ogólnopolskiej konferencji naukowej „Szczepan Twardoch i (nie)fikcje: literatura – publicystyka – formy zaangażowania”. \nOrganizują ją Biblioteka Śląska\, Uniwersytet Śląski oraz Uniwersytet Wrocławski. Twardoch – pisarz z Pilchowic – w ciągu 25 lat sprzedał ponad milion egzemplarzy swoich książek. Jego proza od dawna wywołuje emocje nie tylko wśród czytelników\, ale również w środowisku akademickim\, nic więc dziwnego\, że twórczość autora stała się przedmiotem poważnej\, ogólnopolskiej debaty naukowej.
URL:https://slaskaopinia.pl/namiejscu/konferencja-naukowa-szczepan-twardoch-i-niefikcje-literatura-publicystyka-formy-zaangazowania/
LOCATION:Uniwersytet Śląski w Katowicach\, ul. Bankowa 12\, Katowice\, Śląskie\, 40-007
CATEGORIES:Konferencja
ORGANIZER;CN="Uniwersytet %C5%9Al%C4%85ski w Katowicach":MAILTO:info@us.edu.pl
END:VEVENT
BEGIN:VEVENT
DTSTART;TZID=Europe/Warsaw:20260326T170000
DTEND;TZID=Europe/Warsaw:20260326T170000
DTSTAMP:20260423T065913
CREATED:20260227T171213Z
LAST-MODIFIED:20260227T171213Z
UID:72726-1774544400-1774544400@slaskaopinia.pl
SUMMARY:Ołowiane dzieci
DESCRIPTION:Spotkanie autorskie z Michałem Jędryką\, promujące książkę będącą inspiracją do powstania serialu fabularnego o katowickiej lekarce dr Jolancie Król-Wadowskiej\, w reż. M. Pieprzycy.
URL:https://slaskaopinia.pl/namiejscu/olowiane-dzieci/
LOCATION:Miejska Biblioteka Publiczna w Katowicach – Filia nr 19\, ul. Obrońców Westerplatte 10\, Katowice\, Polska
CATEGORIES:Spotkanie
END:VEVENT
BEGIN:VEVENT
DTSTART;TZID=Europe/Warsaw:20260320T170000
DTEND;TZID=Europe/Warsaw:20260320T170000
DTSTAMP:20260423T065913
CREATED:20260227T171158Z
LAST-MODIFIED:20260227T171158Z
UID:72721-1774026000-1774026000@slaskaopinia.pl
SUMMARY:Dwunaste piętro
DESCRIPTION:Spotkanie autorskie z Natalią Szyszkowską\, promujące jej najnowszą powieść z elementami autobiograficznymi.
URL:https://slaskaopinia.pl/namiejscu/dwunaste-pietro/
LOCATION:Miejska Biblioteka Publiczna w Katowicach – Filia nr 3\, ul. Gliwicka 93\, Katowice\, Polska
CATEGORIES:Spotkanie
END:VEVENT
BEGIN:VEVENT
DTSTART;TZID=Europe/Warsaw:20260313T170000
DTEND;TZID=Europe/Warsaw:20260313T170000
DTSTAMP:20260423T065913
CREATED:20260227T171145Z
LAST-MODIFIED:20260227T171145Z
UID:72717-1773421200-1773421200@slaskaopinia.pl
SUMMARY:Pechowy piątek w szczęśliwej Siódemce
DESCRIPTION:Spotkanie autorskie z Magdaleną Załęcką\, promujące jej najnowszą\, trzecią powieść „Kadry tamtego lata”.
URL:https://slaskaopinia.pl/namiejscu/pechowy-piatek-w-szczesliwej-siodemce/
LOCATION:Miejska Biblioteka Publiczna w Katowicach – Filia nr 7\, ul. Franciszkańska 25\, Katowice\, Polska
CATEGORIES:Spotkanie
END:VEVENT
BEGIN:VEVENT
DTSTART;TZID=Europe/Warsaw:20260304T170000
DTEND;TZID=Europe/Warsaw:20260304T170000
DTSTAMP:20260423T065913
CREATED:20260303T190326Z
LAST-MODIFIED:20260303T190326Z
UID:73120-1772643600-1772643600@slaskaopinia.pl
SUMMARY:Promocja książki Beaty Tomanek „Mikroświaty. Opowieści o Domowych Kronikarzach"
DESCRIPTION:Spotkanie z Beatą Tomanek poprowadzi Ewelina Kosałka-Passia. Muzycznie zilustruje Józef Skrzek. Wśród gości specjalnych wystąpią: prof. Jan Malicki\, prof. Maciej Sabała oraz dr Jacek Kurek. Domowych kronikarzy będzie można poznać również w filmowej odsłonie. Książka opowiada o mikrohistorii Śląska przez pryzmat amatorskich kronikarzy i ich emocjonalnych relacji.
URL:https://slaskaopinia.pl/namiejscu/promocja-ksiazki-beaty-tomanek-mikroswiaty-opowiesci-o-domowych-kronikarzach/
LOCATION:Kino Rialto\, ul. św. Jana 24\, Katowice
CATEGORIES:Spotkanie autorskie
END:VEVENT
END:VCALENDAR