BEGIN:VCALENDAR
VERSION:2.0
PRODID:-//Śląska Opinia - ECPv6.15.19//NONSGML v1.0//EN
CALSCALE:GREGORIAN
METHOD:PUBLISH
X-ORIGINAL-URL:https://slaskaopinia.pl
X-WR-CALDESC:Wydarzenia dla Śląska Opinia
REFRESH-INTERVAL;VALUE=DURATION:PT1H
X-Robots-Tag:noindex
X-PUBLISHED-TTL:PT1H
BEGIN:VTIMEZONE
TZID:Europe/Warsaw
BEGIN:DAYLIGHT
TZOFFSETFROM:+0100
TZOFFSETTO:+0200
TZNAME:CEST
DTSTART:20250330T010000
END:DAYLIGHT
BEGIN:STANDARD
TZOFFSETFROM:+0200
TZOFFSETTO:+0100
TZNAME:CET
DTSTART:20251026T010000
END:STANDARD
BEGIN:DAYLIGHT
TZOFFSETFROM:+0100
TZOFFSETTO:+0200
TZNAME:CEST
DTSTART:20260329T010000
END:DAYLIGHT
BEGIN:STANDARD
TZOFFSETFROM:+0200
TZOFFSETTO:+0100
TZNAME:CET
DTSTART:20261025T010000
END:STANDARD
BEGIN:DAYLIGHT
TZOFFSETFROM:+0100
TZOFFSETTO:+0200
TZNAME:CEST
DTSTART:20270328T010000
END:DAYLIGHT
BEGIN:STANDARD
TZOFFSETFROM:+0200
TZOFFSETTO:+0100
TZNAME:CET
DTSTART:20271031T010000
END:STANDARD
END:VTIMEZONE
BEGIN:VEVENT
DTSTART;TZID=Europe/Warsaw:20260208T180000
DTEND;TZID=Europe/Warsaw:20260208T180000
DTSTAMP:20260421T114633
CREATED:20260304T055903Z
LAST-MODIFIED:20260304T055903Z
UID:73317-1770573600-1770573600@slaskaopinia.pl
SUMMARY:HISTORIE ŁÓŻKOWE
DESCRIPTION:Trzy pary w jednym pokoju hotelowym przez trzydzieści lat. Śmieszne i wzruszające opowieści o miłości\, zdradzie i upływającym czasie.
URL:https://slaskaopinia.pl/namiejscu/historie-lozkowe-2/
LOCATION:Teatr Nowy w Zabrzu\, Pl. Teatralny 1\, Zabrze
CATEGORIES:Teatr|Komedia
END:VEVENT
BEGIN:VEVENT
DTSTART;TZID=Europe/Warsaw:20260207T180000
DTEND;TZID=Europe/Warsaw:20260207T180000
DTSTAMP:20260421T114633
CREATED:20260304T055900Z
LAST-MODIFIED:20260304T055900Z
UID:73316-1770487200-1770487200@slaskaopinia.pl
SUMMARY:HISTORIE ŁÓŻKOWE
DESCRIPTION:Trzy pary w jednym pokoju hotelowym przez trzydzieści lat. Śmieszne i wzruszające opowieści o miłości\, zdradzie i upływającym czasie.
URL:https://slaskaopinia.pl/namiejscu/historie-lozkowe/
LOCATION:Teatr Nowy w Zabrzu\, Pl. Teatralny 1\, Zabrze
CATEGORIES:Teatr|Komedia
END:VEVENT
END:VCALENDAR