BEGIN:VCALENDAR
VERSION:2.0
PRODID:-//Śląska Opinia - ECPv6.15.19//NONSGML v1.0//EN
CALSCALE:GREGORIAN
METHOD:PUBLISH
X-WR-CALNAME:Śląska Opinia
X-ORIGINAL-URL:https://slaskaopinia.pl
X-WR-CALDESC:Wydarzenia dla Śląska Opinia
REFRESH-INTERVAL;VALUE=DURATION:PT1H
X-Robots-Tag:noindex
X-PUBLISHED-TTL:PT1H
BEGIN:VTIMEZONE
TZID:Europe/Warsaw
BEGIN:DAYLIGHT
TZOFFSETFROM:+0100
TZOFFSETTO:+0200
TZNAME:CEST
DTSTART:20250330T010000
END:DAYLIGHT
BEGIN:STANDARD
TZOFFSETFROM:+0200
TZOFFSETTO:+0100
TZNAME:CET
DTSTART:20251026T010000
END:STANDARD
BEGIN:DAYLIGHT
TZOFFSETFROM:+0100
TZOFFSETTO:+0200
TZNAME:CEST
DTSTART:20260329T010000
END:DAYLIGHT
BEGIN:STANDARD
TZOFFSETFROM:+0200
TZOFFSETTO:+0100
TZNAME:CET
DTSTART:20261025T010000
END:STANDARD
BEGIN:DAYLIGHT
TZOFFSETFROM:+0100
TZOFFSETTO:+0200
TZNAME:CEST
DTSTART:20270328T010000
END:DAYLIGHT
BEGIN:STANDARD
TZOFFSETFROM:+0200
TZOFFSETTO:+0100
TZNAME:CET
DTSTART:20271031T010000
END:STANDARD
END:VTIMEZONE
BEGIN:VEVENT
DTSTART;TZID=Europe/Warsaw:20260427T173000
DTEND;TZID=Europe/Warsaw:20260427T200000
DTSTAMP:20260423T083731
CREATED:20260420T141509Z
LAST-MODIFIED:20260420T141509Z
UID:74484-1777311000-1777320000@slaskaopinia.pl
SUMMARY:105 spotkanie KME: Nic nie spada z nieba - o nielegalnej pracy dzieci w XXI wieku
DESCRIPTION:Gościnią KME będzie Marzena Figiel-Strzała – dziennikarka\, reporterka\, autorka cyklu reportaży Dzieci Świata. W 2021 roku założyła Fundację Dzieci Świata\, której celem jest wsparcie w edukacji dzieci uratowanych z niewolniczej pracy. Dziś pod opieką ma ponad 200 dzieci. \nTemat: „Nic nie spada z nieba – o nielegalnej pracy dzieci w XXI wieku” \n\n\n\n\n\nMarzena Figiel-Strzała – za działalność na rzecz praw człowieka i dziecka została nagrodzona statuetką Architektka Zrównoważonego Rozwoju w kategorii Etyka i Prawa Człowieka – United Nations Global Network oraz Wszechmocne w Dziennikarstwie 2023 – Wirtualna Polska\, a także medalem imienia Janusza Korczaka – Akademia Pedagogiki Specjalnej im. Marii Grzegorzewskiej. W 2025 roku otrzymała statuetkę Kobieca Marka Roku oraz tytuł Inspiratorki roku 2025 wręczonej podczas gali Sukces Pisany Szminką. W swojej pracy reporterskiej odkryła kulisy branży fast fashion w Bangladeszu\, dotarła do kopalni miki w Indiach i na Madagaskarze oraz na plantacje oleju palmowego w Indonezji czy plantacje kakaowca w Ghanie oraz jaśminu w Egipcie obnażając przy tym brak transparentności łańcucha dostaw branży kosmetycznej i spożywczej. Jest także autorką reportaży obnażających nielegalną pracę dzieci czy bolesne rytuały\, którym poddawane są dziewczynki na całym świecie. \n„Do bycia w drodze popycha mnie miłość do Świata i Ludzi. Nie kolekcjonuję pieczątek w paszporcie ale ludzkie historie. Obnażam niewygodne prawdy i mówię o rzeczach ważnych. Pokazuję Świat bez różowych okularów\, ale takim\, jakim jest naprawdę … W reportażach często poruszam problem nielegalnej pracy dzieci\, czy bolesnych rytuałów\, jakim są poddawane. Oglądający odcinki Dzieci Świata dowiadują się jak wygląda edukacja dzieci z różnych części Świata\, jakie mają możliwości rozwoju\, jakie pragnienia\, jak spędzają wolny czas i czy w ogóle go mają\, czym się bawią\, jakie mają perspektywy na przyszłość\, obowiązki\, jak liczną mają rodzinę\, jaką rolę w niej pełnią. Dzieci Świata obnażają także niewygodne prawdy\, jak np. Fakt zatrudniania dzieci w nielegalnych kopalniach miki – minerału będącego składnikiem naszych rozświetlaczy\, czy cieni do powiek.” \nRozmowę z gościem KME poprowadzą: prof. Piotr Skubała (Wydział Nauk Przyrodniczych\, Uniwersytet Śląski\, ekolog\, akarolog\, etyk środowiskowy\, edukator ekologiczny\, działacz na rzecz ochrony przyrody\, aktywista klimatyczny) oraz dr Ryszard Kulik (Pracownia na rzecz Wszystkich Istot\, psycholog\, aktywista ekologiczny\, trener treningu psychologicznego\, ekofilozof skoncentrowany na głębokiej ekologii\, autor książek i artykułów poświęconych relacji człowiek – przyroda). Kontakt z widzami na Facebooku i YouTube: Barbara Wojtaszek (prezeska Fundacji Klub Myśli Ekologicznej\, polonistka i anglistka\, edukatorka ekologiczna\, aktywistka Śląskiego Ruchu Klimatycznego). Zapraszamy do zadawania pytań gościowi. \n\n\n\n\n\n\nKlub Myśli Ekologicznej jest inicjatywą\, która ma na celu propagowanie idei ekologicznych oraz prezentowanie osób wcielających te idee w życie. Uważamy\, że żyjemy w czasach bezprecedensowych zagrożeń dla przyrody i człowieka. Dlatego tak ważna wydaje się potrzeba pogłębionej refleksji nad diagnozą obecnej sytuacji\, określeniem przyczyn negatywnych zjawisk oraz poszukiwaniem dróg wyjścia. Uważamy\, że obecnie potrzebujemy nowych wizji\, odkrywania swoich głębokich związków z przyrodą\, rozwijania postaw umiarkowania\, pokory i szacunku wobec życia\, a także dążenia do równowagi na wielu poziomach naszego życia. W ramach Klubu Myśli Ekologicznej proponujemy spotkania z naukowcami\, aktywistami ekologicznymi\, działaczami społecznymi\, dla których zmiana świata na lepsze jest ważnym motywem działań. Chcemy inspirować\, zachęcać do aktywności\, wspierać oddolne inicjatywy oraz budować krąg osób\, angażujących się w pracę dla przyrody i człowieka. Spotkania Klubu odbywają się raz w miesiącu o godz. 17.30.
URL:https://slaskaopinia.pl/namiejscu/105-spotkanie-kme-nic-nie-spada-z-nieba-o-nielegalnej-pracy-dzieci-w-xxi-wieku/
LOCATION:Mediateka\, al. Piłsudskiego 16\, Tychy\, Śląskie\, 43-100\, Poland
CATEGORIES:Spotkanie
ATTACH;FMTTYPE=image/png:https://slaskaopinia.pl/wp-content/uploads/2026/04/Marzena-Figiel-Strzala_dzikie-zycie.png
END:VEVENT
END:VCALENDAR