BEGIN:VCALENDAR
VERSION:2.0
PRODID:-//Śląska Opinia - ECPv6.15.19//NONSGML v1.0//EN
CALSCALE:GREGORIAN
METHOD:PUBLISH
X-ORIGINAL-URL:https://slaskaopinia.pl
X-WR-CALDESC:Wydarzenia dla Śląska Opinia
REFRESH-INTERVAL;VALUE=DURATION:PT1H
X-Robots-Tag:noindex
X-PUBLISHED-TTL:PT1H
BEGIN:VTIMEZONE
TZID:Europe/Warsaw
BEGIN:DAYLIGHT
TZOFFSETFROM:+0100
TZOFFSETTO:+0200
TZNAME:CEST
DTSTART:20250330T010000
END:DAYLIGHT
BEGIN:STANDARD
TZOFFSETFROM:+0200
TZOFFSETTO:+0100
TZNAME:CET
DTSTART:20251026T010000
END:STANDARD
BEGIN:DAYLIGHT
TZOFFSETFROM:+0100
TZOFFSETTO:+0200
TZNAME:CEST
DTSTART:20260329T010000
END:DAYLIGHT
BEGIN:STANDARD
TZOFFSETFROM:+0200
TZOFFSETTO:+0100
TZNAME:CET
DTSTART:20261025T010000
END:STANDARD
BEGIN:DAYLIGHT
TZOFFSETFROM:+0100
TZOFFSETTO:+0200
TZNAME:CEST
DTSTART:20270328T010000
END:DAYLIGHT
BEGIN:STANDARD
TZOFFSETFROM:+0200
TZOFFSETTO:+0100
TZNAME:CET
DTSTART:20271031T010000
END:STANDARD
END:VTIMEZONE
BEGIN:VEVENT
DTSTART;TZID=Europe/Warsaw:20260423T133000
DTEND;TZID=Europe/Warsaw:20260423T133000
DTSTAMP:20260423T133246
CREATED:20260410T105532Z
LAST-MODIFIED:20260410T105532Z
UID:74045-1776951000-1776951000@slaskaopinia.pl
SUMMARY:Super Mario Galaxy Film
DESCRIPTION:The Super Mario Galaxy Movie. Rez. Michael Jelenic\, Aaron Horvath. Japonia\, USA 2026\, 100 min. Gatunek: przygodowy\, animacja\, komedia. Scenariusz: Matthew Fogel. Format: 2D DUB.
URL:https://slaskaopinia.pl/namiejscu/super-mario-galaxy-film-27/
LOCATION:KINO BAŁTYK
CATEGORIES:Film|Dla dzieci
END:VEVENT
BEGIN:VEVENT
DTSTART;TZID=Europe/Warsaw:20260423T153000
DTEND;TZID=Europe/Warsaw:20260423T153000
DTSTAMP:20260423T133246
CREATED:20260410T105533Z
LAST-MODIFIED:20260410T105533Z
UID:74046-1776958200-1776958200@slaskaopinia.pl
SUMMARY:Super Mario Galaxy Film
DESCRIPTION:The Super Mario Galaxy Movie. Rez. Michael Jelenic\, Aaron Horvath. Japonia\, USA 2026\, 100 min. Gatunek: przygodowy\, animacja\, komedia. Scenariusz: Matthew Fogel. Format: 2D DUB.
URL:https://slaskaopinia.pl/namiejscu/super-mario-galaxy-film-28/
LOCATION:KINO BAŁTYK
CATEGORIES:Film|Dla dzieci
END:VEVENT
BEGIN:VEVENT
DTSTART;TZID=Europe/Warsaw:20260424T160000
DTEND;TZID=Europe/Warsaw:20260424T160000
DTSTAMP:20260423T133246
CREATED:20260410T105547Z
LAST-MODIFIED:20260410T105547Z
UID:74050-1777046400-1777046400@slaskaopinia.pl
SUMMARY:Super Mario Galaxy Film
DESCRIPTION:The Super Mario Galaxy Movie. Rez. Michael Jelenic\, Aaron Horvath. Japonia\, USA 2026\, 100 min. Gatunek: przygodowy\, animacja\, komedia. Scenariusz: Matthew Fogel. Format: 2D DUB.
URL:https://slaskaopinia.pl/namiejscu/super-mario-galaxy-film-29/
LOCATION:KINO BAŁTYK
CATEGORIES:Film|Dla dzieci
END:VEVENT
BEGIN:VEVENT
DTSTART;TZID=Europe/Warsaw:20260425T160000
DTEND;TZID=Europe/Warsaw:20260425T160000
DTSTAMP:20260423T133246
CREATED:20260410T105601Z
LAST-MODIFIED:20260410T105601Z
UID:74054-1777132800-1777132800@slaskaopinia.pl
SUMMARY:Super Mario Galaxy Film
DESCRIPTION:The Super Mario Galaxy Movie. Rez. Michael Jelenic\, Aaron Horvath. Japonia\, USA 2026\, 100 min. Gatunek: przygodowy\, animacja\, komedia. Scenariusz: Matthew Fogel. Format: 2D DUB.
URL:https://slaskaopinia.pl/namiejscu/super-mario-galaxy-film-30/
LOCATION:KINO BAŁTYK
CATEGORIES:Film|Dla dzieci
END:VEVENT
BEGIN:VEVENT
DTSTART;TZID=Europe/Warsaw:20260426T140000
DTEND;TZID=Europe/Warsaw:20260426T140000
DTSTAMP:20260423T133246
CREATED:20260410T105604Z
LAST-MODIFIED:20260410T105604Z
UID:74057-1777212000-1777212000@slaskaopinia.pl
SUMMARY:Super Mario Galaxy Film
DESCRIPTION:The Super Mario Galaxy Movie. Rez. Michael Jelenic\, Aaron Horvath. Japonia\, USA 2026\, 100 min. Gatunek: przygodowy\, animacja\, komedia. Scenariusz: Matthew Fogel. Format: 2D DUB.
URL:https://slaskaopinia.pl/namiejscu/super-mario-galaxy-film-31/
LOCATION:KINO BAŁTYK
CATEGORIES:Film|Dla dzieci
END:VEVENT
BEGIN:VEVENT
DTSTART;TZID=Europe/Warsaw:20260427T160000
DTEND;TZID=Europe/Warsaw:20260427T160000
DTSTAMP:20260423T133246
CREATED:20260410T105619Z
LAST-MODIFIED:20260410T105619Z
UID:74062-1777305600-1777305600@slaskaopinia.pl
SUMMARY:Super Mario Galaxy Film
DESCRIPTION:The Super Mario Galaxy Movie. Rez. Michael Jelenic\, Aaron Horvath. Japonia\, USA 2026\, 100 min. Gatunek: przygodowy\, animacja\, komedia. Scenariusz: Matthew Fogel. Format: 2D DUB.
URL:https://slaskaopinia.pl/namiejscu/super-mario-galaxy-film-32/
LOCATION:KINO BAŁTYK
CATEGORIES:Film|Dla dzieci
END:VEVENT
BEGIN:VEVENT
DTSTART;TZID=Europe/Warsaw:20260428T143000
DTEND;TZID=Europe/Warsaw:20260428T143000
DTSTAMP:20260423T133246
CREATED:20260410T105632Z
LAST-MODIFIED:20260410T105632Z
UID:74065-1777386600-1777386600@slaskaopinia.pl
SUMMARY:Super Mario Galaxy Film
DESCRIPTION:The Super Mario Galaxy Movie. Rez. Michael Jelenic\, Aaron Horvath. Japonia\, USA 2026\, 100 min. Gatunek: przygodowy\, animacja\, komedia. Scenariusz: Matthew Fogel. Format: 2D DUB.
URL:https://slaskaopinia.pl/namiejscu/super-mario-galaxy-film-33/
LOCATION:KINO BAŁTYK
CATEGORIES:Film|Dla dzieci
END:VEVENT
BEGIN:VEVENT
DTSTART;TZID=Europe/Warsaw:20260429T160000
DTEND;TZID=Europe/Warsaw:20260429T160000
DTSTAMP:20260423T133246
CREATED:20260410T105648Z
LAST-MODIFIED:20260410T105648Z
UID:74070-1777478400-1777478400@slaskaopinia.pl
SUMMARY:Super Mario Galaxy Film
DESCRIPTION:The Super Mario Galaxy Movie. Rez. Michael Jelenic\, Aaron Horvath. Japonia\, USA 2026\, 100 min. Gatunek: przygodowy\, animacja\, komedia. Scenariusz: Matthew Fogel. Format: 2D DUB.
URL:https://slaskaopinia.pl/namiejscu/super-mario-galaxy-film-34/
LOCATION:KINO BAŁTYK
CATEGORIES:Film|Dla dzieci
END:VEVENT
BEGIN:VEVENT
DTSTART;TZID=Europe/Warsaw:20260430T153000
DTEND;TZID=Europe/Warsaw:20260430T153000
DTSTAMP:20260423T133246
CREATED:20260410T105701Z
LAST-MODIFIED:20260410T105701Z
UID:74074-1777563000-1777563000@slaskaopinia.pl
SUMMARY:Super Mario Galaxy Film
DESCRIPTION:The Super Mario Galaxy Movie. Rez. Michael Jelenic\, Aaron Horvath. Japonia\, USA 2026\, 100 min. Gatunek: przygodowy\, animacja\, komedia. Scenariusz: Matthew Fogel. Format: 2D DUB.
URL:https://slaskaopinia.pl/namiejscu/super-mario-galaxy-film-35/
LOCATION:KINO BAŁTYK
CATEGORIES:Film|Dla dzieci
END:VEVENT
END:VCALENDAR