BEGIN:VCALENDAR
VERSION:2.0
PRODID:-//Śląska Opinia - ECPv6.15.19//NONSGML v1.0//EN
CALSCALE:GREGORIAN
METHOD:PUBLISH
X-WR-CALNAME:Śląska Opinia
X-ORIGINAL-URL:https://slaskaopinia.pl
X-WR-CALDESC:Wydarzenia dla Śląska Opinia
REFRESH-INTERVAL;VALUE=DURATION:PT1H
X-Robots-Tag:noindex
X-PUBLISHED-TTL:PT1H
BEGIN:VTIMEZONE
TZID:Europe/Warsaw
BEGIN:DAYLIGHT
TZOFFSETFROM:+0100
TZOFFSETTO:+0200
TZNAME:CEST
DTSTART:20250330T010000
END:DAYLIGHT
BEGIN:STANDARD
TZOFFSETFROM:+0200
TZOFFSETTO:+0100
TZNAME:CET
DTSTART:20251026T010000
END:STANDARD
BEGIN:DAYLIGHT
TZOFFSETFROM:+0100
TZOFFSETTO:+0200
TZNAME:CEST
DTSTART:20260329T010000
END:DAYLIGHT
BEGIN:STANDARD
TZOFFSETFROM:+0200
TZOFFSETTO:+0100
TZNAME:CET
DTSTART:20261025T010000
END:STANDARD
BEGIN:DAYLIGHT
TZOFFSETFROM:+0100
TZOFFSETTO:+0200
TZNAME:CEST
DTSTART:20270328T010000
END:DAYLIGHT
BEGIN:STANDARD
TZOFFSETFROM:+0200
TZOFFSETTO:+0100
TZNAME:CET
DTSTART:20271031T010000
END:STANDARD
END:VTIMEZONE
BEGIN:VEVENT
DTSTART;TZID=Europe/Warsaw:20260304T200000
DTEND;TZID=Europe/Warsaw:20260304T221300
DTSTAMP:20260423T134422
CREATED:20260303T191356Z
LAST-MODIFIED:20260303T191356Z
UID:73160-1772654400-1772662380@slaskaopinia.pl
SUMMARY:La Grazia
DESCRIPTION:Projekcja filmu La Grazia.
URL:https://slaskaopinia.pl/namiejscu/la-grazia-2/
LOCATION:Kino Studyjne Światowid\, ul. 3 Maja 7\, Katowice
CATEGORIES:Film
END:VEVENT
BEGIN:VEVENT
DTSTART;TZID=Europe/Warsaw:20260303T111500
DTEND;TZID=Europe/Warsaw:20260303T132800
DTSTAMP:20260423T134422
CREATED:20260303T191320Z
LAST-MODIFIED:20260303T191320Z
UID:73145-1772536500-1772544480@slaskaopinia.pl
SUMMARY:La Grazia
DESCRIPTION:Projekcja filmu La Grazia w reżyserii Paolo Sorrentino.
URL:https://slaskaopinia.pl/namiejscu/la-grazia/
LOCATION:Kino Studyjne Światowid\, ul. 3 Maja 7\, Katowice
CATEGORIES:Film
END:VEVENT
END:VCALENDAR